BEGIN:VCALENDAR
VERSION:2.0
PRODID:-//Association Ma Parenthèse - ECPv6.15.20//NONSGML v1.0//EN
CALSCALE:GREGORIAN
METHOD:PUBLISH
X-WR-CALNAME:Association Ma Parenthèse
X-ORIGINAL-URL:https://www.maparenthese-nantes.com
X-WR-CALDESC:Évènements pour Association Ma Parenthèse
REFRESH-INTERVAL;VALUE=DURATION:PT1H
X-Robots-Tag:noindex
X-PUBLISHED-TTL:PT1H
BEGIN:VTIMEZONE
TZID:Europe/Paris
BEGIN:DAYLIGHT
TZOFFSETFROM:+0100
TZOFFSETTO:+0200
TZNAME:CEST
DTSTART:20240331T010000
END:DAYLIGHT
BEGIN:STANDARD
TZOFFSETFROM:+0200
TZOFFSETTO:+0100
TZNAME:CET
DTSTART:20241027T010000
END:STANDARD
BEGIN:DAYLIGHT
TZOFFSETFROM:+0100
TZOFFSETTO:+0200
TZNAME:CEST
DTSTART:20250330T010000
END:DAYLIGHT
BEGIN:STANDARD
TZOFFSETFROM:+0200
TZOFFSETTO:+0100
TZNAME:CET
DTSTART:20251026T010000
END:STANDARD
BEGIN:DAYLIGHT
TZOFFSETFROM:+0100
TZOFFSETTO:+0200
TZNAME:CEST
DTSTART:20260329T010000
END:DAYLIGHT
BEGIN:STANDARD
TZOFFSETFROM:+0200
TZOFFSETTO:+0100
TZNAME:CET
DTSTART:20261025T010000
END:STANDARD
END:VTIMEZONE
BEGIN:VEVENT
DTSTART;TZID=Europe/Paris:20251001T141500
DTEND;TZID=Europe/Paris:20251001T154500
DTSTAMP:20260422T130355
CREATED:20210922T132203Z
LAST-MODIFIED:20260211T131243Z
UID:10001682-1759328100-1759333500@www.maparenthese-nantes.com
SUMMARY:Acupuncture et Cancer
DESCRIPTION:Le docteur Eva Kerrouault (médecin de l’ICO)\, vous propose un atelier d’échanges autour des bienfaits de l’acupuncture en cancérologie et points d’acupression en pratique \nFaire un don
URL:https://www.maparenthese-nantes.com/agenda/acupuncture-et-cancer-2/
LOCATION:La maison\, 13 Rue Pasteur\, Basse-Goulaine\, 44115\, France
CATEGORIES:Agenda Basse Goulaine
ATTACH;FMTTYPE=image/png:https://www.maparenthese-nantes.com/wp-content/uploads/2021/09/Acupuncture-et-cancer.png
GEO:47.2159;-1.46495
X-APPLE-STRUCTURED-LOCATION;VALUE=URI;X-ADDRESS=La maison 13 Rue Pasteur Basse-Goulaine 44115 France;X-APPLE-RADIUS=500;X-TITLE=13 Rue Pasteur:geo:-1.46495,47.2159
END:VEVENT
END:VCALENDAR